<Capabilities xmlns="http://www.opengis.net/wmts/1.0" xmlns:ows="http://www.opengis.net/ows/1.1" xmlns:xlink="http://www.w3.org/1999/xlink" xmlns:xsi="http://www.w3.org/2001/XMLSchema-instance" xmlns:gml="http://www.opengis.net/gml" xsi:schemaLocation="http://www.opengis.net/wmts/1.0 http://schemas.opengis.net/wmts/1.0/wmtsGetCapabilities_response.xsd" version="1.0.0"><!-- Service Identification --> <ows:ServiceIdentification><ows:Title>Impervious Surface</ows:Title><ows:ServiceType>OGC WMTS</ows:ServiceType><ows:ServiceTypeVersion>1.0.0</ows:ServiceTypeVersion><Abstract xmlns="ows" /><ows:Keywords><Keyword xmlns="ows"></Keyword><Keyword xmlns="ows">One &amp; another &amp;quot; third</Keyword></ows:Keywords></ows:ServiceIdentification><!-- Operations Metadata --><ows:OperationsMetadata><ows:Operation name="GetCapabilities"><ows:DCP><ows:HTTP><ows:Get xlink:href="https://services2.arcgis.com/G6TP4SnXQoFs2r0T/ArcGIS/rest/services/Impervious_Surfaces_Tile_Layer/MapServer/WMTS/1.0.0/WMTSCapabilities.xml"><ows:Constraint name="GetEncoding"><ows:AllowedValues> <ows:Value>RESTful</ows:Value></ows:AllowedValues></ows:Constraint> </ows:Get><ows:Get xlink:href="https://services2.arcgis.com/G6TP4SnXQoFs2r0T/ArcGIS/rest/services/Impervious_Surfaces_Tile_Layer/MapServer/WMTS?"> <ows:Constraint name="GetEncoding"><ows:AllowedValues><ows:Value>KVP</ows:Value></ows:AllowedValues></ows:Constraint></ows:Get></ows:HTTP></ows:DCP></ows:Operation><ows:Operation name="GetTile"><ows:DCP><ows:HTTP><ows:Get xlink:href="https://services2.arcgis.com/G6TP4SnXQoFs2r0T/ArcGIS/rest/services/Impervious_Surfaces_Tile_Layer/MapServer/WMTS/tile/1.0.0/"><ows:Constraint name="GetEncoding"><ows:AllowedValues><ows:Value>RESTful</ows:Value></ows:AllowedValues></ows:Constraint></ows:Get><ows:Get xlink:href="https://services2.arcgis.com/G6TP4SnXQoFs2r0T/ArcGIS/rest/services/Impervious_Surfaces_Tile_Layer/MapServer/WMTS?"><ows:Constraint name="GetEncoding"><ows:AllowedValues><ows:Value>KVP</ows:Value></ows:AllowedValues></ows:Constraint></ows:Get></ows:HTTP></ows:DCP></ows:Operation></ows:OperationsMetadata><!-- Contents --><Contents><!-- Layer --><Layer><ows:Title>Impervious_Surfaces_Tile_Layer</ows:Title><ows:Identifier>Impervious_Surfaces_Tile_Layer</ows:Identifier><ows:Metadata xlink:href="https://www.arcgis.com/sharing/rest/content/items/f09b2201fa154428ad2f36028bff28e1/info/metadata/metadata.xml?format=default" /><ows:BoundingBox crs="urn:ogc:def:crs:EPSG::3857"><ows:LowerCorner>-7922441.94163374 5159149.33054352</ows:LowerCorner><ows:UpperCorner>-7909878.43531693 5174769.67665671</ows:UpperCorner></ows:BoundingBox><ows:WGS84BoundingBox crs="urn:ogc:def:crs:OGC:2:84"><ows:LowerCorner>-71.1685068371913 41.9877813855193</ows:LowerCorner><ows:UpperCorner>-71.0556469397261 42.0919940069572</ows:UpperCorner></ows:WGS84BoundingBox><Style isDefault="true"><ows:Title>Default Style</ows:Title><ows:Identifier>default</ows:Identifier></Style><Format>image/png</Format><TileMatrixSetLink><TileMatrixSet>default028mm</TileMatrixSet></TileMatrixSetLink><ResourceURL format="image/png" resourceType="tile" template="https://services2.arcgis.com/G6TP4SnXQoFs2r0T/ArcGIS/rest/services/Impervious_Surfaces_Tile_Layer/MapServer/WMTS/tile/1.0.0/Impervious_Surfaces_Tile_Layer/{Style}/{TileMatrixSet}/{TileMatrix}/{TileRow}/{TileCol}.png"/></Layer><!-- Tile Matrix Set --><TileMatrixSet><ows:Title>TileMatrix using 0.28mm</ows:Title><ows:Abstract>The tile matrix set that has scale values calculated based on the dpi defined by OGC specification (dpi assumes 0.28mm as the physical distance of a pixel).</ows:Abstract><ows:Identifier>default028mm</ows:Identifier><ows:SupportedCRS>urn:ogc:def:crs:EPSG::3857</ows:SupportedCRS><TileMatrix><ows:Identifier>0</ows:Identifier><ScaleDenominator>559081145.864044</ScaleDenominator><TopLeftCorner>-20037508.342787 20037508.342787</TopLeftCorner><TileWidth>256</TileWidth> <TileHeight>256</TileHeight><MatrixWidth>1</MatrixWidth><MatrixHeight>1</MatrixHeight></TileMatrix><TileMatrix><ows:Identifier>1</ows:Identifier><ScaleDenominator>279540572.932021</ScaleDenominator><TopLeftCorner>-20037508.342787 20037508.342787</TopLeftCorner><TileWidth>256</TileWidth> <TileHeight>256</TileHeight><MatrixWidth>1</MatrixWidth><MatrixHeight>1</MatrixHeight></TileMatrix><TileMatrix><ows:Identifier>2</ows:Identifier><ScaleDenominator>139770286.466011</ScaleDenominator><TopLeftCorner>-20037508.342787 20037508.342787</TopLeftCorner><TileWidth>256</TileWidth> <TileHeight>256</TileHeight><MatrixWidth>2</MatrixWidth><MatrixHeight>2</MatrixHeight></TileMatrix><TileMatrix><ows:Identifier>3</ows:Identifier><ScaleDenominator>69885143.2330051</ScaleDenominator><TopLeftCorner>-20037508.342787 20037508.342787</TopLeftCorner><TileWidth>256</TileWidth> <TileHeight>256</TileHeight><MatrixWidth>3</MatrixWidth><MatrixHeight>3</MatrixHeight></TileMatrix><TileMatrix><ows:Identifier>4</ows:Identifier><ScaleDenominator>34942571.6165026</ScaleDenominator><TopLeftCorner>-20037508.342787 20037508.342787</TopLeftCorner><TileWidth>256</TileWidth> <TileHeight>256</TileHeight><MatrixWidth>5</MatrixWidth><MatrixHeight>6</MatrixHeight></TileMatrix><TileMatrix><ows:Identifier>5</ows:Identifier><ScaleDenominator>17471285.8082513</ScaleDenominator><TopLeftCorner>-20037508.342787 20037508.342787</TopLeftCorner><TileWidth>256</TileWidth> <TileHeight>256</TileHeight><MatrixWidth>10</MatrixWidth><MatrixHeight>12</MatrixHeight></TileMatrix><TileMatrix><ows:Identifier>6</ows:Identifier><ScaleDenominator>8735642.90412564</ScaleDenominator><TopLeftCorner>-20037508.342787 20037508.342787</TopLeftCorner><TileWidth>256</TileWidth> <TileHeight>256</TileHeight><MatrixWidth>20</MatrixWidth><MatrixHeight>24</MatrixHeight></TileMatrix><TileMatrix><ows:Identifier>7</ows:Identifier><ScaleDenominator>4367821.45206282</ScaleDenominator><TopLeftCorner>-20037508.342787 20037508.342787</TopLeftCorner><TileWidth>256</TileWidth> <TileHeight>256</TileHeight><MatrixWidth>39</MatrixWidth><MatrixHeight>48</MatrixHeight></TileMatrix><TileMatrix><ows:Identifier>8</ows:Identifier><ScaleDenominator>2183910.72603188</ScaleDenominator><TopLeftCorner>-20037508.342787 20037508.342787</TopLeftCorner><TileWidth>256</TileWidth> <TileHeight>256</TileHeight><MatrixWidth>78</MatrixWidth><MatrixHeight>96</MatrixHeight></TileMatrix><TileMatrix><ows:Identifier>9</ows:Identifier><ScaleDenominator>1091955.36301547</ScaleDenominator><TopLeftCorner>-20037508.342787 20037508.342787</TopLeftCorner><TileWidth>256</TileWidth> <TileHeight>256</TileHeight><MatrixWidth>155</MatrixWidth><MatrixHeight>191</MatrixHeight></TileMatrix><TileMatrix><ows:Identifier>10</ows:Identifier><ScaleDenominator>545977.681508207</ScaleDenominator><TopLeftCorner>-20037508.342787 20037508.342787</TopLeftCorner><TileWidth>256</TileWidth> <TileHeight>256</TileHeight><MatrixWidth>310</MatrixWidth><MatrixHeight>381</MatrixHeight></TileMatrix><TileMatrix><ows:Identifier>11</ows:Identifier><ScaleDenominator>272988.840753631</ScaleDenominator><TopLeftCorner>-20037508.342787 20037508.342787</TopLeftCorner><TileWidth>256</TileWidth> <TileHeight>256</TileHeight><MatrixWidth>620</MatrixWidth><MatrixHeight>761</MatrixHeight></TileMatrix><TileMatrix><ows:Identifier>12</ows:Identifier><ScaleDenominator>136494.420376815</ScaleDenominator><TopLeftCorner>-20037508.342787 20037508.342787</TopLeftCorner><TileWidth>256</TileWidth> <TileHeight>256</TileHeight><MatrixWidth>1240</MatrixWidth><MatrixHeight>1521</MatrixHeight></TileMatrix><TileMatrix><ows:Identifier>13</ows:Identifier><ScaleDenominator>68247.2101884077</ScaleDenominator><TopLeftCorner>-20037508.342787 20037508.342787</TopLeftCorner><TileWidth>256</TileWidth> <TileHeight>256</TileHeight><MatrixWidth>2480</MatrixWidth><MatrixHeight>3042</MatrixHeight></TileMatrix><TileMatrix><ows:Identifier>14</ows:Identifier><ScaleDenominator>34123.6050942039</ScaleDenominator><TopLeftCorner>-20037508.342787 20037508.342787</TopLeftCorner><TileWidth>256</TileWidth> <TileHeight>256</TileHeight><MatrixWidth>4959</MatrixWidth><MatrixHeight>6083</MatrixHeight></TileMatrix><TileMatrix><ows:Identifier>15</ows:Identifier><ScaleDenominator>17061.8025475744</ScaleDenominator><TopLeftCorner>-20037508.342787 20037508.342787</TopLeftCorner><TileWidth>256</TileWidth> <TileHeight>256</TileHeight><MatrixWidth>9917</MatrixWidth><MatrixHeight>12166</MatrixHeight></TileMatrix><TileMatrix><ows:Identifier>16</ows:Identifier><ScaleDenominator>8530.9012737872</ScaleDenominator><TopLeftCorner>-20037508.342787 20037508.342787</TopLeftCorner><TileWidth>256</TileWidth> <TileHeight>256</TileHeight><MatrixWidth>19833</MatrixWidth><MatrixHeight>24332</MatrixHeight></TileMatrix><TileMatrix><ows:Identifier>17</ows:Identifier><ScaleDenominator>4265.45063642113</ScaleDenominator><TopLeftCorner>-20037508.342787 20037508.342787</TopLeftCorner><TileWidth>256</TileWidth> <TileHeight>256</TileHeight><MatrixWidth>39666</MatrixWidth><MatrixHeight>48663</MatrixHeight></TileMatrix><TileMatrix><ows:Identifier>18</ows:Identifier><ScaleDenominator>2132.72531868304</ScaleDenominator><TopLeftCorner>-20037508.342787 20037508.342787</TopLeftCorner><TileWidth>256</TileWidth> <TileHeight>256</TileHeight><MatrixWidth>79331</MatrixWidth><MatrixHeight>97325</MatrixHeight></TileMatrix><TileMatrix><ows:Identifier>19</ows:Identifier><ScaleDenominator>1066.36265886905</ScaleDenominator><TopLeftCorner>-20037508.342787 20037508.342787</TopLeftCorner><TileWidth>256</TileWidth> <TileHeight>256</TileHeight><MatrixWidth>158662</MatrixWidth><MatrixHeight>194649</MatrixHeight></TileMatrix><TileMatrix><ows:Identifier>20</ows:Identifier><ScaleDenominator>533.181329434524</ScaleDenominator><TopLeftCorner>-20037508.342787 20037508.342787</TopLeftCorner><TileWidth>256</TileWidth> <TileHeight>256</TileHeight><MatrixWidth>317324</MatrixWidth><MatrixHeight>389298</MatrixHeight></TileMatrix><TileMatrix><ows:Identifier>21</ows:Identifier><ScaleDenominator>266.590664717262</ScaleDenominator><TopLeftCorner>-20037508.342787 20037508.342787</TopLeftCorner><TileWidth>256</TileWidth> <TileHeight>256</TileHeight><MatrixWidth>634647</MatrixWidth><MatrixHeight>778595</MatrixHeight></TileMatrix><TileMatrix><ows:Identifier>22</ows:Identifier><ScaleDenominator>133.295332358631</ScaleDenominator><TopLeftCorner>-20037508.342787 20037508.342787</TopLeftCorner><TileWidth>256</TileWidth> <TileHeight>256</TileHeight><MatrixWidth>1269294</MatrixWidth><MatrixHeight>1557189</MatrixHeight></TileMatrix></TileMatrixSet></Contents><ServiceMetadataURL xlink:href="https://services2.arcgis.com/G6TP4SnXQoFs2r0T/ArcGIS/rest/services/Impervious_Surfaces_Tile_Layer/MapServer/WMTS/1.0.0/WMTSCapabilities.xml"/></Capabilities>