{
  "id" : 1630, 
  "name" : "NFPA13002021", 
  "server" : "Fh2bD9911cyi2gO2", 
  "serviceItemId" : "0675ba19e8954c50a19faa67cdd3825a", 
  "ownerUserName" : "jbodell9", 
  "serviceDescription" : "", 
  "mapName" : "NFPA13002021", 
  "description" : "", 
  "abstract" : "", 
  "metadataLink" : "", 
  "keywords" : [], 
  "copyrightText" : "", 
  "layers" : [
    {
      "id" : 0, 
      "name" : "HouseHoldVariables", 
      "parentLayerId" : -1, 
      "defaultVisibility" : true, 
      "subLayerIds" : null, 
      "minScale" : 0, 
      "maxScale" : 0, 
      "type" : "Feature Layer", 
      "geometryType" : "esriGeometryPolygon"
    }, 
    {
      "id" : 1, 
      "name" : "EducationAttainment", 
      "parentLayerId" : -1, 
      "defaultVisibility" : false, 
      "subLayerIds" : null, 
      "minScale" : 0, 
      "maxScale" : 0, 
      "type" : "Feature Layer", 
      "geometryType" : "esriGeometryPolygon"
    }, 
    {
      "id" : 2, 
      "name" : "ACSPopulationVariables", 
      "parentLayerId" : -1, 
      "defaultVisibility" : false, 
      "subLayerIds" : null, 
      "minScale" : 0, 
      "maxScale" : 0, 
      "type" : "Feature Layer", 
      "geometryType" : "esriGeometryPolygon"
    }, 
    {
      "id" : 3, 
      "name" : "ACSDisabilityStatus", 
      "parentLayerId" : -1, 
      "defaultVisibility" : false, 
      "subLayerIds" : null, 
      "minScale" : 0, 
      "maxScale" : 0, 
      "type" : "Feature Layer", 
      "geometryType" : "esriGeometryPolygon"
    }, 
    {
      "id" : 4, 
      "name" : "ACSPovertyStatus", 
      "parentLayerId" : -1, 
      "defaultVisibility" : false, 
      "subLayerIds" : null, 
      "minScale" : 0, 
      "maxScale" : 0, 
      "type" : "Feature Layer", 
      "geometryType" : "esriGeometryPolygon"
    }, 
    {
      "id" : 5, 
      "name" : "ACSMedianHouseholdIncome", 
      "parentLayerId" : -1, 
      "defaultVisibility" : false, 
      "subLayerIds" : null, 
      "minScale" : 0, 
      "maxScale" : 0, 
      "type" : "Feature Layer", 
      "geometryType" : "esriGeometryPolygon"
    }, 
    {
      "id" : 6, 
      "name" : "ACSHousingUnitsOccupancy", 
      "parentLayerId" : -1, 
      "defaultVisibility" : false, 
      "subLayerIds" : null, 
      "minScale" : 0, 
      "maxScale" : 0, 
      "type" : "Feature Layer", 
      "geometryType" : "esriGeometryPolygon"
    }, 
    {
      "id" : 7, 
      "name" : "ACSVehicleAvailability", 
      "parentLayerId" : -1, 
      "defaultVisibility" : false, 
      "subLayerIds" : null, 
      "minScale" : 0, 
      "maxScale" : 0, 
      "type" : "Feature Layer", 
      "geometryType" : "esriGeometryPolygon"
    }, 
    {
      "id" : 8, 
      "name" : "ACSInternetAccessbyEducation", 
      "parentLayerId" : -1, 
      "defaultVisibility" : false, 
      "subLayerIds" : null, 
      "minScale" : 0, 
      "maxScale" : 0, 
      "type" : "Feature Layer", 
      "geometryType" : "esriGeometryPolygon"
    }, 
    {
      "id" : 9, 
      "name" : "ACSEmploymentStatusVariables", 
      "parentLayerId" : -1, 
      "defaultVisibility" : false, 
      "subLayerIds" : null, 
      "minScale" : 0, 
      "maxScale" : 0, 
      "type" : "Feature Layer", 
      "geometryType" : "esriGeometryPolygon"
    }, 
    {
      "id" : 10, 
      "name" : "ACSHousingCostsVariables", 
      "parentLayerId" : -1, 
      "defaultVisibility" : false, 
      "subLayerIds" : null, 
      "minScale" : 0, 
      "maxScale" : 0, 
      "type" : "Feature Layer", 
      "geometryType" : "esriGeometryPolygon"
    }, 
    {
      "id" : 11, 
      "name" : "ACSLanguageSpokenatHome", 
      "parentLayerId" : -1, 
      "defaultVisibility" : false, 
      "subLayerIds" : null, 
      "minScale" : 0, 
      "maxScale" : 0, 
      "type" : "Feature Layer", 
      "geometryType" : "esriGeometryPolygon"
    }, 
    {
      "id" : 12, 
      "name" : "ACSTransportationtoWork", 
      "parentLayerId" : -1, 
      "defaultVisibility" : false, 
      "subLayerIds" : null, 
      "minScale" : 0, 
      "maxScale" : 0, 
      "type" : "Feature Layer", 
      "geometryType" : "esriGeometryPolygon"
    }, 
    {
      "id" : 13, 
      "name" : "ACSEarningsbyOccupation", 
      "parentLayerId" : -1, 
      "defaultVisibility" : false, 
      "subLayerIds" : null, 
      "minScale" : 0, 
      "maxScale" : 0, 
      "type" : "Feature Layer", 
      "geometryType" : "esriGeometryPolygon"
    }, 
    {
      "id" : 14, 
      "name" : "ACSPlaceofBirth", 
      "parentLayerId" : -1, 
      "defaultVisibility" : false, 
      "subLayerIds" : null, 
      "minScale" : 0, 
      "maxScale" : 0, 
      "type" : "Feature Layer", 
      "geometryType" : "esriGeometryPolygon"
    }, 
    {
      "id" : 15, 
      "name" : "ACSHousingUnitsbyYearBuilt", 
      "parentLayerId" : -1, 
      "defaultVisibility" : false, 
      "subLayerIds" : null, 
      "minScale" : 0, 
      "maxScale" : 0, 
      "type" : "Feature Layer", 
      "geometryType" : "esriGeometryPolygon"
    }
  ], 
  "tables" : [], 
  "spatialReference" : {
    "wkid" : 102100, 
    "latestWkid" : 3857
  }, 
  "singleFusedMapCache" : true, 
  "tileInfo" : {"rows":256,"cols":256,"dpi":96,"preciseDpi":96,"format":"PNG32","storageFormat":"esriMapCacheStorageModeExploded","packetSize":128,"compressionQuality":0,"antialiasing":true,"origin":{"x":-20037508.342787,"y":20037508.342787},"spatialReference":{"wkid":102100,"latestWkid":3857},"lods":[{"level":0,"resolution":156543.033928,"scale":591657527.591555},{"level":1,"resolution":78271.5169639999,"scale":295828763.795777},{"level":2,"resolution":39135.7584820001,"scale":147914381.897889},{"level":3,"resolution":19567.8792409999,"scale":73957190.948944},{"level":4,"resolution":9783.93962049996,"scale":36978595.474472},{"level":5,"resolution":4891.96981024998,"scale":18489297.737236},{"level":6,"resolution":2445.98490512499,"scale":9244648.868618},{"level":7,"resolution":1222.99245256249,"scale":4622324.434309},{"level":8,"resolution":611.49622628138,"scale":2311162.217155},{"level":9,"resolution":305.748113140558,"scale":1155581.108577},{"level":10,"resolution":152.874056570411,"scale":577790.554289},{"level":11,"resolution":76.4370282850732,"scale":288895.277144},{"level":12,"resolution":38.2185141425366,"scale":144447.638572},{"level":13,"resolution":19.1092570712683,"scale":72223.819286},{"level":14,"resolution":9.55462853563415,"scale":36111.909643},{"level":15,"resolution":4.77731426794937,"scale":18055.954822},{"level":16,"resolution":2.38865713397468,"scale":9027.977411},{"level":17,"resolution":1.19432856685505,"scale":4513.988705},{"level":18,"resolution":0.597164283559817,"scale":2256.994353},{"level":19,"resolution":0.298582141647617,"scale":1128.497176},{"level":20,"resolution":0.14929107082380833,"scale":564.248588},{"level":21,"resolution":0.074645535411904163,"scale":282.124294},{"level":22,"resolution":0.037322767705952081,"scale":141.062147}]}, 
  "minLOD" : 11, 
  "maxLOD" : 15, 
  "initialExtent" : {
    "xmin" : -9931430.21858375, 
    "ymin" : 5171286.1153863445, 
    "xmax" : -9892171.4573858883, 
    "ymax" : 5216997.0118000377, 
    "spatialReference" : {
      "wkid" : 102100, 
      "latestWkid" : 3857
    }
  }, 
  "fullExtent" : {
    "xmin" : -9929172.9999999981, 
    "ymin" : 5182461.0000000075, 
    "xmax" : -9900851.9999999963, 
    "ymax" : 5211800.1823884025, 
    "spatialReference" : {
      "wkid" : 102100, 
      "latestWkid" : 3857
    }
  }, 
  "units" : "esriMeters", 
  "supportedImageFormatTypes" : "", 
  "created" : null, 
  "modified" : null, 
  "status" : "created", 
  "access" : "SECURE", 
  "minScale" : 288896, 
  "maxScale" : 18055, 
  "exportTilesAllowed" : false, 
  "maxExportTilesCount" : 100000, 
  "cacheOnDemand" : false, 
  "capabilities" : "Map,ChangeTracking,TilesOnly,Tilemap", 
  "type" : "MapServer", 
  "currentVersion" : 12, 
  "changeTrackingInfo" : 
  {
    "lastSyncDate" : 1624905744627, 
    "layerServerGens" : [
      {
        "id" : 0, 
        "minServerGen" : 828871, 
        "serverGen" : 828871
      }, 
      {
        "id" : 1, 
        "minServerGen" : 828871, 
        "serverGen" : 828871
      }, 
      {
        "id" : 2, 
        "minServerGen" : 828871, 
        "serverGen" : 828871
      }, 
      {
        "id" : 3, 
        "minServerGen" : 828871, 
        "serverGen" : 828871
      }, 
      {
        "id" : 4, 
        "minServerGen" : 828871, 
        "serverGen" : 828871
      }, 
      {
        "id" : 5, 
        "minServerGen" : 828871, 
        "serverGen" : 828871
      }, 
      {
        "id" : 6, 
        "minServerGen" : 828871, 
        "serverGen" : 828871
      }, 
      {
        "id" : 7, 
        "minServerGen" : 828871, 
        "serverGen" : 828871
      }, 
      {
        "id" : 8, 
        "minServerGen" : 828871, 
        "serverGen" : 828871
      }, 
      {
        "id" : 9, 
        "minServerGen" : 828871, 
        "serverGen" : 828871
      }, 
      {
        "id" : 10, 
        "minServerGen" : 828871, 
        "serverGen" : 828871
      }, 
      {
        "id" : 11, 
        "minServerGen" : 828871, 
        "serverGen" : 828871
      }, 
      {
        "id" : 12, 
        "minServerGen" : 828871, 
        "serverGen" : 828871
      }, 
      {
        "id" : 13, 
        "minServerGen" : 828871, 
        "serverGen" : 828871
      }, 
      {
        "id" : 14, 
        "minServerGen" : 828871, 
        "serverGen" : 828871
      }, 
      {
        "id" : 15, 
        "minServerGen" : 828871, 
        "serverGen" : 828871
      }
    ]
  }, 
  
  "scheduleInfo" : {
    "name" : "", 
    "startAt" : 1624905742043, 
    "state" : "enabled", 
    
    "recurrenceInfo" : {
      "frequency" : "minute", 
      "interval" : 2
    }
  }
}